BEGIN:VCALENDAR
VERSION:2.0
PRODID:-//AERAM - ECPv6.15.20//NONSGML v1.0//EN
CALSCALE:GREGORIAN
METHOD:PUBLISH
X-WR-CALNAME:AERAM
X-ORIGINAL-URL:https://aeram.pt
X-WR-CALDESC:Eventos para AERAM
REFRESH-INTERVAL;VALUE=DURATION:PT1H
X-Robots-Tag:noindex
X-PUBLISHED-TTL:PT1H
BEGIN:VTIMEZONE
TZID:UTC
BEGIN:STANDARD
TZOFFSETFROM:+0000
TZOFFSETTO:+0000
TZNAME:UTC
DTSTART:20230101T000000
END:STANDARD
END:VTIMEZONE
BEGIN:VEVENT
DTSTART;VALUE=DATE:20241012
DTEND;VALUE=DATE:20241013
DTSTAMP:20260423T140025
CREATED:20241128T142256Z
LAST-MODIFIED:20241129T100230Z
UID:2131-1728691200-1728777599@aeram.pt
SUMMARY:Taça Regional de Espada 1
DESCRIPTION:
URL:https://aeram.pt/evento/taca-regional-de-espada-1/
LOCATION:Funchal\, Sala de Armas do Funchal\, Madeira\, Portugal
CATEGORIES:Competição
ATTACH;FMTTYPE=image/jpeg:https://aeram.pt/wp-content/uploads/2024/11/ESPADA-1.jpg
END:VEVENT
BEGIN:VEVENT
DTSTART;VALUE=DATE:20241019
DTEND;VALUE=DATE:20241020
DTSTAMP:20260423T140025
CREATED:20241128T142256Z
LAST-MODIFIED:20241129T100301Z
UID:2132-1729296000-1729382399@aeram.pt
SUMMARY:Taça da Madeira Benjamins 1 + Cadetes 1
DESCRIPTION:
URL:https://aeram.pt/evento/taca-da-madeira-benjamins-1-cadetes-1/
LOCATION:Funchal\, Sala de Armas do Funchal\, Madeira\, Portugal
CATEGORIES:Competição
ATTACH;FMTTYPE=image/jpeg:https://aeram.pt/wp-content/uploads/2024/11/benjamins-cadetes-1.jpg
END:VEVENT
BEGIN:VEVENT
DTSTART;VALUE=DATE:20241026
DTEND;VALUE=DATE:20241027
DTSTAMP:20260423T140025
CREATED:20241128T142301Z
LAST-MODIFIED:20241129T100333Z
UID:2133-1729900800-1729987199@aeram.pt
SUMMARY:Taça da Madeira Infantis 1 + Juniores 1
DESCRIPTION:
URL:https://aeram.pt/evento/taca-da-madeira-infantis-1-juniores-1/
LOCATION:Funchal\, Sala de Armas do Funchal\, Madeira\, Portugal
CATEGORIES:Competição
ATTACH;FMTTYPE=image/jpeg:https://aeram.pt/wp-content/uploads/2024/11/InfantisJuniores1.jpg
END:VEVENT
END:VCALENDAR