BEGIN:VCALENDAR
VERSION:2.0
PRODID:-//AERAM - ECPv6.15.20//NONSGML v1.0//EN
CALSCALE:GREGORIAN
METHOD:PUBLISH
X-ORIGINAL-URL:https://aeram.pt
X-WR-CALDESC:Eventos para AERAM
REFRESH-INTERVAL;VALUE=DURATION:PT1H
X-Robots-Tag:noindex
X-PUBLISHED-TTL:PT1H
BEGIN:VTIMEZONE
TZID:Europe/Lisbon
BEGIN:DAYLIGHT
TZOFFSETFROM:+0000
TZOFFSETTO:+0100
TZNAME:WEST
DTSTART:20240331T010000
END:DAYLIGHT
BEGIN:STANDARD
TZOFFSETFROM:+0100
TZOFFSETTO:+0000
TZNAME:WET
DTSTART:20241027T010000
END:STANDARD
BEGIN:DAYLIGHT
TZOFFSETFROM:+0000
TZOFFSETTO:+0100
TZNAME:WEST
DTSTART:20250330T010000
END:DAYLIGHT
BEGIN:STANDARD
TZOFFSETFROM:+0100
TZOFFSETTO:+0000
TZNAME:WET
DTSTART:20251026T010000
END:STANDARD
BEGIN:DAYLIGHT
TZOFFSETFROM:+0000
TZOFFSETTO:+0100
TZNAME:WEST
DTSTART:20260329T010000
END:DAYLIGHT
BEGIN:STANDARD
TZOFFSETFROM:+0100
TZOFFSETTO:+0000
TZNAME:WET
DTSTART:20261025T010000
END:STANDARD
END:VTIMEZONE
BEGIN:VTIMEZONE
TZID:UTC
BEGIN:STANDARD
TZOFFSETFROM:+0000
TZOFFSETTO:+0000
TZNAME:UTC
DTSTART:20240101T000000
END:STANDARD
END:VTIMEZONE
BEGIN:VEVENT
DTSTART;VALUE=DATE:20250111
DTEND;VALUE=DATE:20250112
DTSTAMP:20260423T081804
CREATED:20241128T161750Z
LAST-MODIFIED:20250108T125930Z
UID:2210-1736553600-1736639999@aeram.pt
SUMMARY:Campeonato Regional de Juniores
DESCRIPTION:
URL:https://aeram.pt/evento/campeonato-regional-de-juniores/
LOCATION:Funchal\, Sala de Armas do Funchal\, Madeira\, Portugal
CATEGORIES:Competição
ATTACH;FMTTYPE=image/jpeg:https://aeram.pt/wp-content/uploads/2024/11/1000052353.jpg
END:VEVENT
BEGIN:VEVENT
DTSTART;VALUE=DATE:20250125
DTEND;VALUE=DATE:20250126
DTSTAMP:20260423T081804
CREATED:20241128T142328Z
LAST-MODIFIED:20250123T095403Z
UID:2142-1737763200-1737849599@aeram.pt
SUMMARY:Taça da Madeira Iniciados 3 + Seniores 3
DESCRIPTION:
URL:https://aeram.pt/evento/taca-da-madeira-iniciados-3-seniores-3/
LOCATION:Funchal\, Sala de Armas do Funchal\, Madeira\, Portugal
CATEGORIES:Competição
ATTACH;FMTTYPE=image/jpeg:https://aeram.pt/wp-content/uploads/2024/11/1000053453.jpg
END:VEVENT
END:VCALENDAR