BEGIN:VCALENDAR
VERSION:2.0
PRODID:-//AERAM - ECPv6.15.20//NONSGML v1.0//EN
CALSCALE:GREGORIAN
METHOD:PUBLISH
X-ORIGINAL-URL:https://aeram.pt
X-WR-CALDESC:Eventos para AERAM
REFRESH-INTERVAL;VALUE=DURATION:PT1H
X-Robots-Tag:noindex
X-PUBLISHED-TTL:PT1H
BEGIN:VTIMEZONE
TZID:UTC
BEGIN:STANDARD
TZOFFSETFROM:+0000
TZOFFSETTO:+0000
TZNAME:UTC
DTSTART:20240101T000000
END:STANDARD
END:VTIMEZONE
BEGIN:VEVENT
DTSTART;TZID=UTC:20251004T094500
DTEND;TZID=UTC:20251004T150000
DTSTAMP:20260422T155547
CREATED:20250926T105537Z
LAST-MODIFIED:20250926T105538Z
UID:2588-1759571100-1759590000@aeram.pt
SUMMARY:Supertaça Florete e Espada + Taça Regional de Espada 1
DESCRIPTION:
URL:https://aeram.pt/evento/supertaca-florete-e-espada-taca-regional-de-espada-1/
LOCATION:Sala de Esgrima do Funchal\, Rua das Rosas\, 1\, Funchal\, Madeira\, Portugal
CATEGORIES:Competição
END:VEVENT
BEGIN:VEVENT
DTSTART;TZID=UTC:20251011T094500
DTEND;TZID=UTC:20251011T150000
DTSTAMP:20260422T155547
CREATED:20250926T105714Z
LAST-MODIFIED:20250926T105714Z
UID:2590-1760175900-1760194800@aeram.pt
SUMMARY:Taça da Madeira Benjamins 1 + Infantis 1
DESCRIPTION:
URL:https://aeram.pt/evento/taca-da-madeira-benjamins-1-infantis-1/
LOCATION:Sala de Esgrima do Funchal\, Rua das Rosas\, 1\, Funchal\, Madeira\, Portugal
CATEGORIES:Competição
END:VEVENT
END:VCALENDAR